BEGIN:VCALENDAR
VERSION:2.0
PRODID:-//jEvents 2.0 for Joomla//EN
CALSCALE:GREGORIAN
METHOD:PUBLISH
BEGIN:VEVENT
UID:9b00918b636bdb002b4fdab1759b0f4d
CATEGORIES:Kapiti Club Rides
CREATED:20150927T231311
SUMMARY:Maungatutu Big Day Out
DESCRIPTION;ENCODING=QUOTED-PRINTABLE:<p style="margin: 0px 0px 18px; color: #666666; font-family: 'Helvetica Neu
 e', Helvetica, Arial, sans-serif; font-size: 14px; line-height: 15.808px;">
 Here's another Big Day Out Ride.   These aren't races - they are just a ful
 l day's adventure - generally on a different bit of road or part of the cou
 ntry to what we are used to.  </p><p style="margin: 0px 0px 18px; color: #6
 66666; font-family: 'Helvetica Neue', Helvetica, Arial, sans-serif; font-si
 ze: 14px; line-height: 15.808px;">The first one was from Waipukurau to Mast
 erton (with scorching temps), the second was from Utiku (South of Taihape) 
 to Fielding via Apiti and the Pohangina Valley (where we had 4 seasons in o
 ne day) and the 3rd was a tough on - the Gentle Annie ride from Taihape to 
 Napier (in near freezing conditions at times - with the odd hill).  The fou
 rth one was a little closer to home with Janice taking everyone for a tour 
 into Wellington round the bays and out to Makara and return (where it was w
 indy).  We haven't got the weather right for these rides yet sorry....    :
 )  </p><p style="margin: 0px 0px 18px; color: #666666; font-family: 'Helvet
 ica Neue', Helvetica, Arial, sans-serif; font-size: 14px; line-height: 15.8
 08px;">The general formula is to ride a good distance - have lunch - and th
 en carry on a shorter distance after lunch.   And they have all been well s
 upported and great fun and good camaraderie...  </p><p style="margin: 0px 0
 px 18px; color: #666666; font-family: 'Helvetica Neue', Helvetica, Arial, s
 ans-serif; font-size: 14px; line-height: 15.808px;">So - as I still (harshl
 y) get accused of being a tad light on the specifics of the ride ("it's all
  downhill") :) - I thought I'd ask around for more volunteers to organise t
 he next one - carrying on from Janice's top ride last time.   This time Pau
 l Rawlinson put his hand up to set the course and lead the ride.   Paul has
  prior form with this - as it was 2 rides that he organised that I went on 
 - that sparked the Big Day Out's in the first place.  He previously organis
 ed a winter sojourn through from Mangaweka to Napier and a truly epic ride 
 that went 210km from Stratford to Tokaanu (followed by a ride the next day 
 over the Desert Road to Taihape for those that wanted it.).  </p><p style="
 margin: 0px 0px 18px; color: #666666; font-family: 'Helvetica Neue', Helvet
 ica, Arial, sans-serif; font-size: 14px; line-height: 15.808px;">Paul has a
  rule when he's organising these things - it has to finish at a hot pools..
 .  And this is no exception...</p><p style="margin: 0px 0px 18px; color: #6
 66666; font-family: 'Helvetica Neue', Helvetica, Arial, sans-serif; font-si
 ze: 14px; line-height: 15.808px;">There are various options on this one.  A
 ll through spectacular rural roads.</p><p style="margin: 0px 0px 18px; colo
 r: #666666; font-family: 'Helvetica Neue', Helvetica, Arial, sans-serif; fo
 nt-size: 14px; line-height: 15.808px;">Here's Option one - from Kairakau - 
 out on the coast from Wiapawa to Maungatutu...    The last 18km of this rou
 te is gravel - so some people might opt to just ride to the start of the gr
 avel -that's absolutely fine - and would shorten the route to 126km sealed 
 riding. </p><p style="margin: 0px 0px 18px; color: #666666; font-family: 'H
 elvetica Neue', Helvetica, Arial, sans-serif; font-size: 14px; line-height:
  15.808px;"> </p><p><iframe id="mapmyfitness_route" src="//snippets.mapmycd
 n.com/routes/view/embedded/872387917?width=600&amp;height=400&amp;elevation
 =true&amp;info=true&amp;line_color=E60f0bdb&amp;rgbhex=DB0B0E&amp;distance_
 markers=1&amp;unit_type=metric&amp;map_mode=ROADMAP&amp;last_updated=2015-0
 9-27T22:48:03+13:00&amp;show_marker_every=14" width="100%" height="570px" f
 rameborder="0"></iframe></p><div style="text-align: right; padding-right: 2
 0px;"><a href="http://www.mapmyride.com/routes/create/" target="_blank">Cre
 ate Routes</a> or <a href="http://www.mapmyride.com/routes/">Search for a r
 oute</a> from millions at <a href="http://www.mapmyride.com">MapMyRide</a><
 /div><div style="text-align: right; padding-right: 20px;"> </div><p style="
 padding-right: 20px; text-align: left;">The 2nd option is to start from Wai
 pawa which shortens the route by 15km..</p><p style="padding-right: 20px; t
 ext-align: left;">And the 3rd option is to start at Puketapu and ride a 70k
 m Mountain Bike course.   This course would be 23km  of country road and th
 e rest farm track or gravel (not too technical and a cross bike would be fi
 ne).   (Paul is still checking out permissions on the farm track - so this 
 route has an asterix beside it until we can get confirmation that it's all 
 OK - but let us know if you are keen.)</p><p style="padding-right: 20px; te
 xt-align: left;">Please let us know if you are keen to come and which optio
 n sounds like you.</p><p style="padding-right: 20px; text-align: left;">The
  organisation would be as follows.</p><p style="padding-right: 20px; text-a
 lign: left;">Date:  Sunday 25th October (Labour Weekend Sunday)</p><p style
 ="padding-right: 20px; text-align: left;">As we have in the past - we will 
 hire rental vehicles and take the club trailer for the bikes.   The last co
 uple of times we've had 2 - 12 seater vans.</p><p style="padding-right: 20p
 x; text-align: left;">We'll leave early from Raumati Beach - 6am.   This wi
 ll see us on our bikes at around 9:30am in Kairakau.</p><p style="padding-r
 ight: 20px; text-align: left;">The plan will be to drop off the longer opti
 on riders first - then the Waipawa riders and lastly the Mountain bikers.</
 p><p style="padding-right: 20px; text-align: left;">For those not wishing t
 o ride the gravel - the vans will pick you up at Balls Clearing (you read t
 hat right!) which is where the gravel starts. </p><p style="padding-right: 
 20px; text-align: left;">We have stopped for a meal on a couple of these ri
 des - but it doesn't work out in this case - so ride through to the finish.
    Don't forget there will be support vehicles so bring spares and food and
  the van can carry all this.  Make sure you bring some food and drink to sh
 are around at the finish as we soak in the hot pools..</p><p style="padding
 -right: 20px; text-align: left;">After a good soak - we'll return via the v
 ans to the Puketapu pub for a meal before driving back to Kapiti.</p><p sty
 le="padding-right: 20px; text-align: left;">Would expect to get back close 
 to Midnight after a full day's adventure..</p><p style="padding-right: 20px
 ; text-align: left;">Cost?  We run these things at cost - as long as you ar
 e a Kapiti Club member ($30 to join).   So we split the cost of the rental 
 hire amongst the riders - and everyone looks after their own meals and food
 .</p><p style="padding-right: 20px; text-align: left;">What next - please l
 et me know asap if you are keen and we'll start planning around how many ve
 hicles we need.  We also need a couple of drivers - so if anyone is keen to
  help out there as well let me know.</p><p style="padding-right: 20px; text
 -align: left;">email to <span id="cloak577de16092e4fe0c0fb40f49934369cc">Th
 is email address is being protected from spambots. You need JavaScript enab
 led to view it.</span><script type='text/javascript'>
				document.getEleme
 ntById('cloak577de16092e4fe0c0fb40f49934369cc').innerHTML = '';
				var pre
 fix = '&#109;a' + 'i&#108;' + '&#116;o';
				var path = 'hr' + 'ef' + '=';

 				var addy577de16092e4fe0c0fb40f49934369cc = 'pr&#101;s&#105;d&#101;nt' +
  '&#64;';
				addy577de16092e4fe0c0fb40f49934369cc = addy577de16092e4fe0c0f
 b40f49934369cc + 'k&#97;p&#105;t&#105;cycl&#105;ngcl&#117;b' + '&#46;' + 'c
 &#111;' + '&#46;' + 'nz';
				var addy_text577de16092e4fe0c0fb40f49934369cc
  = 'pr&#101;s&#105;d&#101;nt' + '&#64;' + 'k&#97;p&#105;t&#105;cycl&#105;ng
 cl&#117;b' + '&#46;' + 'c&#111;' + '&#46;' + 'nz';document.getElementById('
 cloak577de16092e4fe0c0fb40f49934369cc').innerHTML += '<a ' + path + '\'' + 
 prefix + ':' + addy577de16092e4fe0c0fb40f49934369cc + '\'>'+addy_text577de1
 6092e4fe0c0fb40f49934369cc+'<\/a>';
		</script> </p><div style="padding-rig
 ht: 20px; text-align: left;"> </div><div style="padding-right: 20px; text-a
 lign: left;"> </div> This event was imported from: https://www.kapiticyclin
 gclub.co.nz/index.php/component/jevents/icalrepeat.detail/2015/10/25/376/-/
 maungatutu-big-day-out?Itemid=801&amp;tmpl=component
DTSTAMP:20191221T005743Z
DTSTART:20151024T170000Z
DTEND:20151025T105900Z
SEQUENCE:0
TRANSP:OPAQUE
END:VEVENT
END:VCALENDAR